BEGIN:VCALENDAR
VERSION:2.0
PRODID:-//wp-events-plugin.com//7.2.3.1//EN
TZID:Europe/London
X-WR-TIMEZONE:Europe/London
BEGIN:VEVENT
UID:1074@porty.live
DTSTART;TZID=Europe/London:20250428T182000
DTEND;TZID=Europe/London:20250428T192000
DTSTAMP:20250712T132928Z
URL:https://www.porty.live/whatson/events/yin-yoga-2025-04-28/
SUMMARY:Yin Yoga
DESCRIPTION:https://www.thewashhouse.org/weekly-programme
CATEGORIES:Yoga
LOCATION:The Wash House\, 3 Adelphi Grove\, Edinburgh\, EH15 1AP\, United K
 ingdom
GEO:55.953877;-3.116526
X-APPLE-STRUCTURED-LOCATION;VALUE=URI;X-ADDRESS=3 Adelphi Grove\, Edinburgh
 \, EH15 1AP\, United Kingdom;X-APPLE-RADIUS=100;X-TITLE=The Wash House:geo
 :55.953877,-3.116526
END:VEVENT
BEGIN:VTIMEZONE
TZID:Europe/London
X-LIC-LOCATION:Europe/London
BEGIN:DAYLIGHT
DTSTART:20250330T020000
TZOFFSETFROM:+0000
TZOFFSETTO:+0100
TZNAME:BST
END:DAYLIGHT
END:VTIMEZONE
END:VCALENDAR