BEGIN:VCALENDAR
VERSION:2.0
PRODID:-//wp-events-plugin.com//7.2.3.1//EN
TZID:Europe/London
X-WR-TIMEZONE:Europe/London
BEGIN:VEVENT
UID:1773@porty.live
DTSTART;TZID=Europe/London:20251122T110000
DTEND;TZID=Europe/London:20251122T130000
DTSTAMP:20251118T225401Z
URL:https://www.porty.live/whatson/events/wassail-workshop-with-jane-lewis
 /
SUMMARY:Wassail Workshop with Jane Lewis
DESCRIPTION:Join us for a singing and song writing workshop with community 
 song leader\, Jane Lewis\, on Sat 22 November\; the second of two workshop
 s we're holding to create together a new wassail song for the Neighbouring
  Orchard project. You don't need to have come to our first workshop to tak
 e part. The new song will then be performed at a public wassailing event 
 on Saturday 24th January 2026.\n\nWassailing is an ancient pagan tradition
  that has been practiced for centuries. It is carried out in the winter mo
 nths when the trees are bare. It is an occasion of singing\, drinking and 
 merriment\, where bad spirits are warded off from the orchard and good hea
 lth for the apple trees is bestowed.\n\nTickets are by donation and free p
 laces are available. The workshops are open to anyone interested in gettin
 g involved. No singing or songwriting experience necessary. This will be a
  fun\, welcoming workshop\, hosted by an experienced community song leader
 .
ATTACH;FMTTYPE=image/jpeg:https://www.porty.live/wp-content/uploads/2025/1
 1/2530CBCB-8B7D-43A5-8362-8134AD58FCAE.jpeg
CATEGORIES:Music &amp; Singing
LOCATION:St Mark's Church\, 287 Portobello High Street\, Edinburgh\, EH15 2
 AR\, United Kingdom
GEO:55.950726;-3.108889
X-APPLE-STRUCTURED-LOCATION;VALUE=URI;X-ADDRESS=287 Portobello High Street\
 , Edinburgh\, EH15 2AR\, United Kingdom;X-APPLE-RADIUS=100;X-TITLE=St Mark
 's Church:geo:55.950726,-3.108889
END:VEVENT
BEGIN:VTIMEZONE
TZID:Europe/London
X-LIC-LOCATION:Europe/London
BEGIN:STANDARD
DTSTART:20251026T010000
TZOFFSETFROM:+0100
TZOFFSETTO:+0000
TZNAME:GMT
END:STANDARD
END:VTIMEZONE
END:VCALENDAR