BEGIN:VCALENDAR
VERSION:2.0
PRODID:-//wp-events-plugin.com//7.2.3.1//EN
TZID:Europe/London
X-WR-TIMEZONE:Europe/London
BEGIN:VEVENT
UID:346@porty.live
DTSTART;TZID=Europe/London:20250511T100000
DTEND;TZID=Europe/London:20250511T160000
DTSTAMP:20250505T213221Z
URL:https://www.porty.live/whatson/events/vintage-clothing-pop-up-2/
SUMMARY:Vintage Clothing Pop Up
DESCRIPTION:A weekend long extravaganza of vintage clothing and accessories
  from the 1950s through to Y2K.\n\n
ATTACH;FMTTYPE=image/jpeg:https://www.porty.live/wp-content/uploads/2025/0
 4/8e2e4a_9ff15522f6bc4ff7844c30e6c1fda996mv2.webp
CATEGORIES:Pop-up Shop
LOCATION:Unity Hair\, 211A Portobello High Street\, Edinburgh\, EH15 1EU\, 
 United Kingdom
GEO:55.952272;-3.11282
X-APPLE-STRUCTURED-LOCATION;VALUE=URI;X-ADDRESS=211A Portobello High Street
 \, Edinburgh\, EH15 1EU\, United Kingdom;X-APPLE-RADIUS=100;X-TITLE=Unity 
 Hair:geo:55.952272,-3.11282
END:VEVENT
BEGIN:VTIMEZONE
TZID:Europe/London
X-LIC-LOCATION:Europe/London
BEGIN:DAYLIGHT
DTSTART:20250330T020000
TZOFFSETFROM:+0000
TZOFFSETTO:+0100
TZNAME:BST
END:DAYLIGHT
END:VTIMEZONE
END:VCALENDAR