BEGIN:VCALENDAR
VERSION:2.0
PRODID:-//wp-events-plugin.com//7.2.3.1//EN
TZID:Europe/London
X-WR-TIMEZONE:Europe/London
BEGIN:VEVENT
UID:312@porty.live
DTSTART;TZID=Europe/London:20250509T140000
DTEND;TZID=Europe/London:20250509T160000
DTSTAMP:20250505T162441Z
URL:https://www.porty.live/whatson/events/ve-day-anniversary-afternoon-tea
 /
SUMMARY:VE Day Anniversary Afternoon Tea
DESCRIPTION:Join us in the Willowbrae church hall for an afternoon tea to c
 ommemorate the 80th anniversary of VE Day.\n\n
ATTACH;FMTTYPE=image/jpeg:https://www.porty.live/wp-content/uploads/2025/0
 5/erskineveteranscharity_logo.jpg
CATEGORIES:Cafe
LOCATION:Willowbrae Church\, 1a Willowbrae Rd\, Edinburgh\, EH8 7DB\, Unite
 d Kingdom
GEO:55.954939;-3.148464
X-APPLE-STRUCTURED-LOCATION;VALUE=URI;X-ADDRESS=1a Willowbrae Rd\, Edinburg
 h\, EH8 7DB\, United Kingdom;X-APPLE-RADIUS=100;X-TITLE=Willowbrae Church:
 geo:55.954939,-3.148464
END:VEVENT
BEGIN:VTIMEZONE
TZID:Europe/London
X-LIC-LOCATION:Europe/London
BEGIN:DAYLIGHT
DTSTART:20250330T020000
TZOFFSETFROM:+0000
TZOFFSETTO:+0100
TZNAME:BST
END:DAYLIGHT
END:VTIMEZONE
END:VCALENDAR