BEGIN:VCALENDAR
VERSION:2.0
PRODID:-//wp-events-plugin.com//7.2.3.1//EN
TZID:Europe/London
X-WR-TIMEZONE:Europe/London
BEGIN:VEVENT
UID:538@porty.live
DTSTART;TZID=Europe/London:20250807T100000
DTEND;TZID=Europe/London:20250807T120000
DTSTAMP:20250708T193818Z
URL:https://www.porty.live/whatson/events/transition-maths-sessions-2025-0
 7-17-2025-07-24-2025-07-31-2025-08-07/
SUMMARY:Transition Maths Sessions
DESCRIPTION:Is your child starting High School in August? Feeling unsure ab
 out their maths skills? Wanting to boost their confidence or to fill some
  gaps that they’re maybe too embarrassed to ask in front of all their fr
 iends?\n\n
ATTACH;FMTTYPE=image/jpeg:https://www.porty.live/wp-content/uploads/2025/0
 7/tutoring-e1774203915935.png
CATEGORIES:Children's Classes and Tutoring
LOCATION:The Wash House\, 3 Adelphi Grove\, Edinburgh\, EH15 1AP\, United K
 ingdom
GEO:55.953877;-3.116526
X-APPLE-STRUCTURED-LOCATION;VALUE=URI;X-ADDRESS=3 Adelphi Grove\, Edinburgh
 \, EH15 1AP\, United Kingdom;X-APPLE-RADIUS=100;X-TITLE=The Wash House:geo
 :55.953877,-3.116526
END:VEVENT
BEGIN:VTIMEZONE
TZID:Europe/London
X-LIC-LOCATION:Europe/London
BEGIN:DAYLIGHT
DTSTART:20250330T020000
TZOFFSETFROM:+0000
TZOFFSETTO:+0100
TZNAME:BST
END:DAYLIGHT
END:VTIMEZONE
END:VCALENDAR