BEGIN:VCALENDAR
VERSION:2.0
PRODID:-//wp-events-plugin.com//7.2.3.1//EN
TZID:Europe/London
X-WR-TIMEZONE:Europe/London
BEGIN:VEVENT
UID:1752@porty.live
DTSTART;TZID=Europe/London:20251102T140000
DTEND;TZID=Europe/London:20251102T160000
DTSTAMP:20251024T151403Z
URL:https://www.porty.live/whatson/events/to-absent-friends/
SUMMARY:to absent friends…
DESCRIPTION:A festival of storytelling and reminiscence celebrating loved o
 nes who have died\n\n
ATTACH;FMTTYPE=image/jpeg:https://www.porty.live/wp-content/uploads/2025/1
 0/AbsentFriendsflyer.png
CATEGORIES:Festival
LOCATION:Portobello Community Garden\, Portobello Community Garden\, Edinbu
 rgh\, EH15 2EB\, United Kingdom
GEO:55.952154;-3.104044
X-APPLE-STRUCTURED-LOCATION;VALUE=URI;X-ADDRESS=Portobello Community Garden
 \, Edinburgh\, EH15 2EB\, United Kingdom;X-APPLE-RADIUS=100;X-TITLE=Portob
 ello Community Garden:geo:55.952154,-3.104044
END:VEVENT
BEGIN:VTIMEZONE
TZID:Europe/London
X-LIC-LOCATION:Europe/London
BEGIN:STANDARD
DTSTART:20251026T010000
TZOFFSETFROM:+0100
TZOFFSETTO:+0000
TZNAME:GMT
END:STANDARD
END:VTIMEZONE
END:VCALENDAR