BEGIN:VCALENDAR
VERSION:2.0
PRODID:-//wp-events-plugin.com//7.2.3.1//EN
TZID:Europe/London
X-WR-TIMEZONE:Europe/London
BEGIN:VEVENT
UID:184@porty.live
DTSTART;TZID=Europe/London:20250606T180000
DTEND;TZID=Europe/London:20250606T200000
DTSTAMP:20250505T153441Z
URL:https://www.porty.live/whatson/events/the-story-sessions/
SUMMARY:The Story Sessions
DESCRIPTION:Soapbox and Tribe Porty are delighted to welcome you to another
  evening of Story Sessions!\n\n
ATTACH;FMTTYPE=image/jpeg:https://www.porty.live/wp-content/uploads/2025/0
 4/TheStorySessions2160x1080pxInstagramPost2.png
CATEGORIES:Storytelling
LOCATION:Tribe Porty\, 19 Windsor Place\, Edinburgh\, EH15 2AJ\, United Kin
 gdom
GEO:55.951361;-3.113195
X-APPLE-STRUCTURED-LOCATION;VALUE=URI;X-ADDRESS=19 Windsor Place\, Edinburg
 h\, EH15 2AJ\, United Kingdom;X-APPLE-RADIUS=100;X-TITLE=Tribe Porty:geo:5
 5.951361,-3.113195
END:VEVENT
BEGIN:VTIMEZONE
TZID:Europe/London
X-LIC-LOCATION:Europe/London
BEGIN:DAYLIGHT
DTSTART:20250330T020000
TZOFFSETFROM:+0000
TZOFFSETTO:+0100
TZNAME:BST
END:DAYLIGHT
END:VTIMEZONE
END:VCALENDAR