BEGIN:VCALENDAR
VERSION:2.0
PRODID:-//wp-events-plugin.com//7.2.3.1//EN
TZID:Europe/London
X-WR-TIMEZONE:Europe/London
BEGIN:VEVENT
UID:1769@porty.live
DTSTART;TZID=Europe/London:20251114T200000
DTEND;TZID=Europe/London:20251114T230000
DTSTAMP:20251024T155329Z
URL:https://www.porty.live/whatson/events/the-portobello-comedy-night/
SUMMARY:The Portobello Comedy Night
DESCRIPTION:The final Porty Comedy Spectacular of 2025 brings you the fanta
 stic John Scott\n\n
ATTACH;FMTTYPE=image/jpeg:https://www.porty.live/wp-content/uploads/2025/1
 0/02844-1533745109326-LST796148.webp
CATEGORIES:Comedy
LOCATION:Beach Lane Social Club\, 7-9 Figgate Street\, Edinburgh\, EH15 1HL
 \, United Kingdom
GEO:55.954219;-3.115441
X-APPLE-STRUCTURED-LOCATION;VALUE=URI;X-ADDRESS=7-9 Figgate Street\, Edinbu
 rgh\, EH15 1HL\, United Kingdom;X-APPLE-RADIUS=100;X-TITLE=Beach Lane Soci
 al Club:geo:55.954219,-3.115441
END:VEVENT
BEGIN:VTIMEZONE
TZID:Europe/London
X-LIC-LOCATION:Europe/London
BEGIN:STANDARD
DTSTART:20251026T010000
TZOFFSETFROM:+0100
TZOFFSETTO:+0000
TZNAME:GMT
END:STANDARD
END:VTIMEZONE
END:VCALENDAR