BEGIN:VCALENDAR
VERSION:2.0
PRODID:-//wp-events-plugin.com//7.2.3.1//EN
TZID:Europe/London
X-WR-TIMEZONE:Europe/London
BEGIN:VEVENT
UID:1806@porty.live
DTSTART;TZID=Europe/London:20251213T160000
DTEND;TZID=Europe/London:20251213T173000
DTSTAMP:20251129T160235Z
URL:https://www.porty.live/whatson/events/the-muppet-christmas-carol/
SUMMARY:The Muppet Christmas Carol
DESCRIPTION:Directed by Brian Henson / 1992 / USA / 90min / Rated U\n\nDATE
 : Saturday December 13th\nTIME: Doors Open 3:30PM / Film start: 4PM\nVENUE
 : The Wash House\, 3 Adelphi Drive\, Portobello\, Edinburgh\, EH15 1AP\nTI
 CKETS: 65 x on the door / 35 x Early Bird E-tickets\n\nPLEASE NOTE: Under 
 16 year olds must be accompanied by an adult as required by our licensing 
 conditions.\n\nABOUT THE FILM:\n\nA retelling of the classic Dickens tale 
 of Ebenezer Scrooge\, miser extraordinaire with Kermit the Frog playing Bo
 b Cratchit\, the put-upon clerk of stingy Ebenezer Scrooge (Michael Caine)
 . He is held accountable for his dastardly ways during night-time visitati
 ons by the Ghosts of Christmas Past\, Present and Future. It’s the film 
 that truly has it all: spectacular songs\, genuine scares (the Ghost of Ch
 ristmas Yet to Come still gets watched through parted fingers)\, and a pro
 found\, redemptive message.
ATTACH;FMTTYPE=image/jpeg:https://www.porty.live/wp-content/uploads/2025/1
 1/SP23_Mppets_FNL_WEB.jpg
CATEGORIES:Film
LOCATION:The Wash House\, 3 Adelphi Grove\, Edinburgh\, EH15 1AP\, United K
 ingdom
GEO:55.953877;-3.116526
X-APPLE-STRUCTURED-LOCATION;VALUE=URI;X-ADDRESS=3 Adelphi Grove\, Edinburgh
 \, EH15 1AP\, United Kingdom;X-APPLE-RADIUS=100;X-TITLE=The Wash House:geo
 :55.953877,-3.116526
END:VEVENT
BEGIN:VTIMEZONE
TZID:Europe/London
X-LIC-LOCATION:Europe/London
BEGIN:STANDARD
DTSTART:20251026T010000
TZOFFSETFROM:+0100
TZOFFSETTO:+0000
TZNAME:GMT
END:STANDARD
END:VTIMEZONE
END:VCALENDAR