BEGIN:VCALENDAR
VERSION:2.0
PRODID:-//wp-events-plugin.com//7.2.3.1//EN
TZID:Europe/London
X-WR-TIMEZONE:Europe/London
BEGIN:VEVENT
UID:1783@porty.live
DTSTART;TZID=Europe/London:20251214T193000
DTEND;TZID=Europe/London:20251214T210000
DTSTAMP:20251121T184301Z
URL:https://www.porty.live/whatson/events/the-great-arch-film-screening/
SUMMARY:The Great Arch Film Screening
DESCRIPTION:The Great Arch: a film + talk with Robbie Phillips\, sharing th
 e story of climbing one of Scotland’s hardest sea cliffs.
ATTACH;FMTTYPE=image/jpeg:https://www.porty.live/wp-content/uploads/2025/1
 1/https___cdn.evbuc_.com_images_1146797593_64359217845_1_original.jpg
CATEGORIES:Film
LOCATION:The Climbing Hangar\, 4 East Telferton\, Edinburgh\, EH7 6XD\, Uni
 ted Kingdom
GEO:55.956208;-3.124104
X-APPLE-STRUCTURED-LOCATION;VALUE=URI;X-ADDRESS=4 East Telferton\, Edinburg
 h\, EH7 6XD\, United Kingdom;X-APPLE-RADIUS=100;X-TITLE=The Climbing Hanga
 r:geo:55.956208,-3.124104
END:VEVENT
BEGIN:VTIMEZONE
TZID:Europe/London
X-LIC-LOCATION:Europe/London
BEGIN:STANDARD
DTSTART:20251026T010000
TZOFFSETFROM:+0100
TZOFFSETTO:+0000
TZNAME:GMT
END:STANDARD
END:VTIMEZONE
END:VCALENDAR