BEGIN:VCALENDAR
VERSION:2.0
PRODID:-//wp-events-plugin.com//7.2.3.1//EN
TZID:Europe/London
X-WR-TIMEZONE:Europe/London
BEGIN:VEVENT
UID:193@porty.live
DTSTART;TZID=Europe/London:20250607T120000
DTEND;TZID=Europe/London:20250607T130000
DTSTAMP:20250505T145203Z
URL:https://www.porty.live/whatson/events/the-edinburgh-samba-school/
SUMMARY:The Edinburgh Samba School
DESCRIPTION:The Edinburgh Samba School (TESS) will be playing on Portobello
  Prom (bottom of John Street) for Porty Pride! Come have a boogie with the
 m!\n\n
ATTACH;FMTTYPE=image/jpeg:https://www.porty.live/wp-content/uploads/2025/0
 5/86a5e772-b895-49dd-a5dc-a78f43f5a02c.jpg
CATEGORIES:Music
LOCATION:Portobello Promenade (The Prom)\, Promenade\, Edinburgh\, United K
 ingdom
GEO:55.952264;-3.104216
X-APPLE-STRUCTURED-LOCATION;VALUE=URI;X-ADDRESS=Promenade\, Edinburgh\, Uni
 ted Kingdom;X-APPLE-RADIUS=100;X-TITLE=Portobello Promenade (The Prom):geo
 :55.952264,-3.104216
END:VEVENT
BEGIN:VTIMEZONE
TZID:Europe/London
X-LIC-LOCATION:Europe/London
BEGIN:DAYLIGHT
DTSTART:20250330T020000
TZOFFSETFROM:+0000
TZOFFSETTO:+0100
TZNAME:BST
END:DAYLIGHT
END:VTIMEZONE
END:VCALENDAR