BEGIN:VCALENDAR
VERSION:2.0
PRODID:-//wp-events-plugin.com//7.2.3.1//EN
TZID:Europe/London
X-WR-TIMEZONE:Europe/London
BEGIN:VEVENT
UID:1765@porty.live
DTSTART;TZID=Europe/London:20251217T103000
DTEND;TZID=Europe/London:20251217T123000
DTSTAMP:20251024T154210Z
URL:https://www.porty.live/whatson/events/tap-into-it-2025-10-15-2025-10-2
 2-2025-10-29-2025-11-05-2025-11-12-2025-11-19-2025-11-26-2025-12-03-2025-1
 2-10-2025-12-17/
SUMMARY:Tap into IT
DESCRIPTION:Tap into IT Where You Are provides an inclusive\, locally acces
 sible service and ongoing support to enable older people to tap into the b
 enefits of the internet and technolog.\n\n
ATTACH;FMTTYPE=image/jpeg:https://www.porty.live/wp-content/uploads/2025/0
 5/TapintoIT-Logo-test-300x188-1.png
CATEGORIES:IT &amp; Technology
LOCATION:Willowbrae Church\, 1a Willowbrae Rd\, Edinburgh\, EH8 7DB\, Unite
 d Kingdom
GEO:55.954939;-3.148464
X-APPLE-STRUCTURED-LOCATION;VALUE=URI;X-ADDRESS=1a Willowbrae Rd\, Edinburg
 h\, EH8 7DB\, United Kingdom;X-APPLE-RADIUS=100;X-TITLE=Willowbrae Church:
 geo:55.954939,-3.148464
END:VEVENT
BEGIN:VTIMEZONE
TZID:Europe/London
X-LIC-LOCATION:Europe/London
BEGIN:STANDARD
DTSTART:20251026T010000
TZOFFSETFROM:+0100
TZOFFSETTO:+0000
TZNAME:GMT
END:STANDARD
END:VTIMEZONE
END:VCALENDAR