BEGIN:VCALENDAR
VERSION:2.0
PRODID:-//wp-events-plugin.com//7.2.3.1//EN
TZID:Europe/London
X-WR-TIMEZONE:Europe/London
BEGIN:VEVENT
UID:1800@porty.live
DTSTART;TZID=Europe/London:20251003T150000
DTEND;TZID=Europe/London:20251003T160000
DTSTAMP:20251122T170644Z
URL:https://www.porty.live/whatson/events/surgery-with-chris-murray-mp-202
 5-10-03/
SUMMARY:Surgery with Chris Murray MP
DESCRIPTION:Meet with your Local Member of Parliament\n\n
ATTACH;FMTTYPE=image/jpeg:https://www.porty.live/wp-content/uploads/2025/1
 1/Thumbnail.jpg
CATEGORIES:Politics &amp; Surgeries
LOCATION:Portobello Library\, 14 Rosefield Avenue\, Edinburgh\, EH15 1AU\, 
 United Kingdom
GEO:55.953325;-3.116676
X-APPLE-STRUCTURED-LOCATION;VALUE=URI;X-ADDRESS=14 Rosefield Avenue\, Edinb
 urgh\, EH15 1AU\, United Kingdom;X-APPLE-RADIUS=100;X-TITLE=Portobello Lib
 rary:geo:55.953325,-3.116676
END:VEVENT
BEGIN:VTIMEZONE
TZID:Europe/London
X-LIC-LOCATION:Europe/London
BEGIN:DAYLIGHT
DTSTART:20250330T020000
TZOFFSETFROM:+0000
TZOFFSETTO:+0100
TZNAME:BST
END:DAYLIGHT
END:VTIMEZONE
END:VCALENDAR