BEGIN:VCALENDAR
VERSION:2.0
PRODID:-//wp-events-plugin.com//7.2.3.1//EN
TZID:Europe/London
X-WR-TIMEZONE:Europe/London
BEGIN:VEVENT
UID:523@porty.live
DTSTART;TZID=Europe/London:20250622T183000
DTEND;TZID=Europe/London:20250622T200000
DTSTAMP:20250616T194635Z
URL:https://www.porty.live/whatson/events/summer-solstice-fire-dancing-wor
 kshop/
SUMMARY:Summer Solstice Fire Dancing Workshop
DESCRIPTION:Come learn how to dance with fire and celebrate the longest day
  of the year on the beach\n\n
ATTACH;FMTTYPE=image/jpeg:https://www.porty.live/wp-content/uploads/2025/0
 6/501216157_744393124592383_1422253013438984535_n.jpg
CATEGORIES:Exercise &amp; Activity,Workshop
LOCATION:Portobello Promenade (Kings Road)\, Kings Place\, Edinburgh\, EH15
  1DU\, United Kingdom
GEO:55.958267;-3.118721
X-APPLE-STRUCTURED-LOCATION;VALUE=URI;X-ADDRESS=Kings Place\, Edinburgh\, E
 H15 1DU\, United Kingdom;X-APPLE-RADIUS=100;X-TITLE=Portobello Promenade (
 Kings Road):geo:55.958267,-3.118721
END:VEVENT
BEGIN:VTIMEZONE
TZID:Europe/London
X-LIC-LOCATION:Europe/London
BEGIN:DAYLIGHT
DTSTART:20250330T020000
TZOFFSETFROM:+0000
TZOFFSETTO:+0100
TZNAME:BST
END:DAYLIGHT
END:VTIMEZONE
END:VCALENDAR