BEGIN:VCALENDAR
VERSION:2.0
PRODID:-//wp-events-plugin.com//7.2.3.1//EN
TZID:Europe/London
X-WR-TIMEZONE:Europe/London
BEGIN:VEVENT
UID:524@porty.live
DTSTART;TZID=Europe/London:20250621T193000
DTEND;TZID=Europe/London:20250621T220000
DTSTAMP:20250616T201148Z
URL:https://www.porty.live/whatson/events/summer-solstice-beach-party/
SUMMARY:Summer Solstice Beach Party
DESCRIPTION:Welcome to the Summer Solstice Beach Party!\n\n
ATTACH;FMTTYPE=image/jpeg:https://www.porty.live/wp-content/uploads/2025/0
 6/https___cdn.evbuc_.com_images_1027002393_160797398487_1_original.avif
CATEGORIES:Meditation,Swimming,Yoga
LOCATION:Portobello Promenade (The Prom)\, Promenade\, Edinburgh\, United K
 ingdom
GEO:55.952264;-3.104216
X-APPLE-STRUCTURED-LOCATION;VALUE=URI;X-ADDRESS=Promenade\, Edinburgh\, Uni
 ted Kingdom;X-APPLE-RADIUS=100;X-TITLE=Portobello Promenade (The Prom):geo
 :55.952264,-3.104216
END:VEVENT
BEGIN:VTIMEZONE
TZID:Europe/London
X-LIC-LOCATION:Europe/London
BEGIN:DAYLIGHT
DTSTART:20250330T020000
TZOFFSETFROM:+0000
TZOFFSETTO:+0100
TZNAME:BST
END:DAYLIGHT
END:VTIMEZONE
END:VCALENDAR