BEGIN:VCALENDAR
VERSION:2.0
PRODID:-//wp-events-plugin.com//7.2.3.1//EN
TZID:Europe/London
X-WR-TIMEZONE:Europe/London
BEGIN:VEVENT
UID:1233@porty.live
DTSTART;TZID=Europe/London:20250810T110000
DTEND;TZID=Europe/London:20250908T153000
DTSTAMP:20250813T163337Z
URL:https://www.porty.live/whatson/events/summer-family-picnic-rides/
SUMMARY:Summer Family Picnic Rides
DESCRIPTION:Join us for a led bike ride from our bike library on Porty Prom
  to some favourite local picnic spots this summer. Bring your own bike or 
 hire one of our family electric cargo bikes (booking ahead essential if hi
 ring) and a picnic. No need to worry about route planning or traffic - let
  us lead you along the best cycle paths to a shared picnic and play. We'll
  go at a nice easy pace - each ride is roughly 40 minutes each way at a sl
 ow pace.\n\nSunday 10 August: Porty prom to Craigmillar Castle Park\n\nSun
 day 17 August: Porty prom to Meadows Play Park\n\nSunday 24 August: Porty 
 prom to Morrisons Haven Beach\n\nSunday 31 August: Porty prom to Leith Lin
 ks\n\nSunday 7 September: Porty prom to Bridgend Farmhouse\n\nMore info an
 d booking here: https://portycommunityenergy.wordpress.com/upcoming-events
 /
ATTACH;FMTTYPE=image/jpeg:https://www.porty.live/wp-content/uploads/2025/0
 8/facebook-graphic-family-picnic-rides.png
CATEGORIES:Movement,Parent and Child,Picnic
LOCATION:Porty Active Travel Hub\, Pipe Lane\, Edinburgh\, EH15 1BR\, Unite
 d Kingdom
GEO:55.95593;-3.115147
X-APPLE-STRUCTURED-LOCATION;VALUE=URI;X-ADDRESS=Pipe Lane\, Edinburgh\, EH1
 5 1BR\, United Kingdom;X-APPLE-RADIUS=100;X-TITLE=Porty Active Travel Hub:
 geo:55.95593,-3.115147
END:VEVENT
BEGIN:VTIMEZONE
TZID:Europe/London
X-LIC-LOCATION:Europe/London
BEGIN:DAYLIGHT
DTSTART:20250330T020000
TZOFFSETFROM:+0000
TZOFFSETTO:+0100
TZNAME:BST
END:DAYLIGHT
END:VTIMEZONE
END:VCALENDAR