BEGIN:VCALENDAR
VERSION:2.0
PRODID:-//wp-events-plugin.com//7.2.3.1//EN
TZID:Europe/London
X-WR-TIMEZONE:Europe/London
BEGIN:VEVENT
UID:329@porty.live
DTSTART;TZID=Europe/London:20250510T100000
DTEND;TZID=Europe/London:20250510T170000
DTSTAMP:20250505T164313Z
URL:https://www.porty.live/whatson/events/studio-vincent-pop-up/
SUMMARY:Studio Vincent Pop Up
DESCRIPTION:Join us at Dook for a showcase of contemporary jewellery\, hand
 made just moments from the seaside.\n\n
ATTACH;FMTTYPE=image/jpeg:https://www.porty.live/wp-content/uploads/2025/0
 4/8e2e4a_9ff15522f6bc4ff7844c30e6c1fda996mv2.webp
CATEGORIES:Pop-up Shop
LOCATION:DOOK\, 22 Joppa Road\, Edinburgh\, EH15 2EU\, United Kingdom
GEO:55.949302;-3.099724
X-APPLE-STRUCTURED-LOCATION;VALUE=URI;X-ADDRESS=22 Joppa Road\, Edinburgh\,
  EH15 2EU\, United Kingdom;X-APPLE-RADIUS=100;X-TITLE=DOOK:geo:55.949302,-
 3.099724
END:VEVENT
BEGIN:VTIMEZONE
TZID:Europe/London
X-LIC-LOCATION:Europe/London
BEGIN:DAYLIGHT
DTSTART:20250330T020000
TZOFFSETFROM:+0000
TZOFFSETTO:+0100
TZNAME:BST
END:DAYLIGHT
END:VTIMEZONE
END:VCALENDAR