BEGIN:VCALENDAR
VERSION:2.0
PRODID:-//wp-events-plugin.com//7.2.3.1//EN
TZID:Europe/London
X-WR-TIMEZONE:Europe/London
BEGIN:VEVENT
UID:341@porty.live
DTSTART;TZID=Europe/London:20250511T080000
DTEND;TZID=Europe/London:20250511T203000
DTSTAMP:20250505T212102Z
URL:https://www.porty.live/whatson/events/seaside-sauna/
SUMMARY:Seaside Sauna
DESCRIPTION:Welcome to Edinburgh’s first wood-fired sauna. Nestled at the
  foot of a residential street running down onto the promenade.\n\n
ATTACH;FMTTYPE=image/jpeg:https://www.porty.live/wp-content/uploads/2025/0
 4/8e2e4a_9ff15522f6bc4ff7844c30e6c1fda996mv2.webp
LOCATION:Soul Water Sauna\, Soul Water Sauna\, Edinburgh\, EH15 2DN\, Unite
 d Kingdom
GEO:55.95112;-3.101348
X-APPLE-STRUCTURED-LOCATION;VALUE=URI;X-ADDRESS=Soul Water Sauna\, Edinburg
 h\, EH15 2DN\, United Kingdom;X-APPLE-RADIUS=100;X-TITLE=Soul Water Sauna:
 geo:55.95112,-3.101348
END:VEVENT
BEGIN:VTIMEZONE
TZID:Europe/London
X-LIC-LOCATION:Europe/London
BEGIN:DAYLIGHT
DTSTART:20250330T020000
TZOFFSETFROM:+0000
TZOFFSETTO:+0100
TZNAME:BST
END:DAYLIGHT
END:VTIMEZONE
END:VCALENDAR