BEGIN:VCALENDAR
VERSION:2.0
PRODID:-//wp-events-plugin.com//7.2.3.1//EN
TZID:Europe/London
X-WR-TIMEZONE:Europe/London
BEGIN:VEVENT
UID:1772@porty.live
DTSTART;TZID=Europe/London:20251122T193000
DTEND;TZID=Europe/London:20251122T213000
DTSTAMP:20251116T191706Z
URL:https://www.porty.live/whatson/events/screen-porty-november-screening/
SUMMARY:Screen Porty - November Screening
DESCRIPTION:Winning the community film vote by ONE vote - Cabaret!\n\n
ATTACH;FMTTYPE=image/jpeg:https://www.porty.live/wp-content/uploads/2025/1
 0/SP22_cabaret_IG.jpg
CATEGORIES:Film
LOCATION:The Wash House\, 3 Adelphi Grove\, Edinburgh\, EH15 1AP\, United K
 ingdom
GEO:55.953877;-3.116526
X-APPLE-STRUCTURED-LOCATION;VALUE=URI;X-ADDRESS=3 Adelphi Grove\, Edinburgh
 \, EH15 1AP\, United Kingdom;X-APPLE-RADIUS=100;X-TITLE=The Wash House:geo
 :55.953877,-3.116526
END:VEVENT
BEGIN:VTIMEZONE
TZID:Europe/London
X-LIC-LOCATION:Europe/London
BEGIN:STANDARD
DTSTART:20251026T010000
TZOFFSETFROM:+0100
TZOFFSETTO:+0000
TZNAME:GMT
END:STANDARD
END:VTIMEZONE
END:VCALENDAR