BEGIN:VCALENDAR
VERSION:2.0
PRODID:-//wp-events-plugin.com//7.2.3.1//EN
TZID:Europe/London
X-WR-TIMEZONE:Europe/London
BEGIN:VEVENT
UID:191@porty.live
DTSTART;TZID=Europe/London:20250607T103000
DTEND;TZID=Europe/London:20250607T113000
DTSTAMP:20250505T144633Z
URL:https://www.porty.live/whatson/events/queer-poetry-workshop-with-eadao
 in-lynch/
SUMMARY:Queer Poetry Workshop with Éadaoín Lynch
DESCRIPTION:This workshop is led by Éadaoín Lynch\, Irish poet &amp\; res
 earcher living and working in Edinburgh and a current writer-in-residence 
 with Typewronger Books\, creating original poems in response to materials 
 from the Lavender Menace Archive.\n\n
ATTACH;FMTTYPE=image/jpeg:https://www.porty.live/wp-content/uploads/2025/0
 5/s_fit-EadaoinLynch1.jpg
CATEGORIES:Writing
LOCATION:Portobello Library\, 14 Rosefield Avenue\, Edinburgh\, EH15 1AU\, 
 United Kingdom
GEO:55.953325;-3.116676
X-APPLE-STRUCTURED-LOCATION;VALUE=URI;X-ADDRESS=14 Rosefield Avenue\, Edinb
 urgh\, EH15 1AU\, United Kingdom;X-APPLE-RADIUS=100;X-TITLE=Portobello Lib
 rary:geo:55.953325,-3.116676
END:VEVENT
BEGIN:VTIMEZONE
TZID:Europe/London
X-LIC-LOCATION:Europe/London
BEGIN:DAYLIGHT
DTSTART:20250330T020000
TZOFFSETFROM:+0000
TZOFFSETTO:+0100
TZNAME:BST
END:DAYLIGHT
END:VTIMEZONE
END:VCALENDAR