BEGIN:VCALENDAR
VERSION:2.0
PRODID:-//wp-events-plugin.com//7.2.3.1//EN
TZID:Europe/London
X-WR-TIMEZONE:Europe/London
BEGIN:VEVENT
UID:189@porty.live
DTSTART;TZID=Europe/London:20250606T180000
DTEND;TZID=Europe/London:20250606T210000
DTSTAMP:20250505T153411Z
URL:https://www.porty.live/whatson/events/queer-climbing-night/
SUMMARY:Queer Climbing Night
DESCRIPTION:Queer climbing night with Porty Pride
ATTACH;FMTTYPE=image/jpeg:https://www.porty.live/wp-content/uploads/2025/0
 5/Forwebsite.png
CATEGORIES:Climbing,Exercise &amp; Activity
LOCATION:The Climbing Hangar\, 4 East Telferton\, Edinburgh\, EH7 6XD\, Uni
 ted Kingdom
GEO:55.956208;-3.124104
X-APPLE-STRUCTURED-LOCATION;VALUE=URI;X-ADDRESS=4 East Telferton\, Edinburg
 h\, EH7 6XD\, United Kingdom;X-APPLE-RADIUS=100;X-TITLE=The Climbing Hanga
 r:geo:55.956208,-3.124104
END:VEVENT
BEGIN:VTIMEZONE
TZID:Europe/London
X-LIC-LOCATION:Europe/London
BEGIN:DAYLIGHT
DTSTART:20250330T020000
TZOFFSETFROM:+0000
TZOFFSETTO:+0100
TZNAME:BST
END:DAYLIGHT
END:VTIMEZONE
END:VCALENDAR