BEGIN:VCALENDAR
VERSION:2.0
PRODID:-//wp-events-plugin.com//7.2.3.1//EN
TZID:Europe/London
X-WR-TIMEZONE:Europe/London
BEGIN:VEVENT
UID:204@porty.live
DTSTART;TZID=Europe/London:20250608T120000
DTEND;TZID=Europe/London:20250608T130000
DTSTAMP:20250505T152947Z
URL:https://www.porty.live/whatson/events/queer-by-nature/
SUMMARY:Queer by Nature
DESCRIPTION:Join local community group Queer by Nature for a gentle nature 
 connection walk\, using summer's bounty to engage the senses\, connecting 
 with some of Portobello's varied green and blue spaces.\n\n
ATTACH;FMTTYPE=image/jpeg:https://www.porty.live/wp-content/uploads/2025/0
 5/unnamed.png
CATEGORIES:Walking
LOCATION:Daisy Park (Abercorn Park)\, Abercorn Park\, Edinburgh\, EH15 2EF\
 , United Kingdom
GEO:55.95116;-3.106042
X-APPLE-STRUCTURED-LOCATION;VALUE=URI;X-ADDRESS=Abercorn Park\, Edinburgh\,
  EH15 2EF\, United Kingdom;X-APPLE-RADIUS=100;X-TITLE=Daisy Park (Abercorn
  Park):geo:55.95116,-3.106042
END:VEVENT
BEGIN:VTIMEZONE
TZID:Europe/London
X-LIC-LOCATION:Europe/London
BEGIN:DAYLIGHT
DTSTART:20250330T020000
TZOFFSETFROM:+0000
TZOFFSETTO:+0100
TZNAME:BST
END:DAYLIGHT
END:VTIMEZONE
END:VCALENDAR