BEGIN:VCALENDAR
VERSION:2.0
PRODID:-//wp-events-plugin.com//7.2.3.1//EN
TZID:Europe/London
X-WR-TIMEZONE:Europe/London
BEGIN:VEVENT
UID:195@porty.live
DTSTART;TZID=Europe/London:20250607T120000
DTEND;TZID=Europe/London:20250607T130000
DTSTAMP:20250505T150142Z
URL:https://www.porty.live/whatson/events/protests-parades-and-pinkwashing
 -the-politics-of-pride-past-and-present-and-future/
SUMMARY:Protests\, parades and pinkwashing: the politics of Pride\, past an
 d present and future
DESCRIPTION:A panel discussion facilitated by Ellie Muniandy\, anti-oppress
 ion facilitator and therapist.\n\n
ATTACH;FMTTYPE=image/jpeg:https://www.porty.live/wp-content/uploads/2025/0
 5/Ellie-Muniandy-Headshot-1.jpg
CATEGORIES:Panel Discussion
LOCATION:Portobello Library\, 14 Rosefield Avenue\, Edinburgh\, EH15 1AU\, 
 United Kingdom
GEO:55.953325;-3.116676
X-APPLE-STRUCTURED-LOCATION;VALUE=URI;X-ADDRESS=14 Rosefield Avenue\, Edinb
 urgh\, EH15 1AU\, United Kingdom;X-APPLE-RADIUS=100;X-TITLE=Portobello Lib
 rary:geo:55.953325,-3.116676
END:VEVENT
BEGIN:VTIMEZONE
TZID:Europe/London
X-LIC-LOCATION:Europe/London
BEGIN:DAYLIGHT
DTSTART:20250330T020000
TZOFFSETFROM:+0000
TZOFFSETTO:+0100
TZNAME:BST
END:DAYLIGHT
END:VTIMEZONE
END:VCALENDAR