BEGIN:VCALENDAR
VERSION:2.0
PRODID:-//wp-events-plugin.com//7.2.3.1//EN
TZID:Europe/London
X-WR-TIMEZONE:Europe/London
BEGIN:VEVENT
UID:188@porty.live
DTSTART;TZID=Europe/London:20250606T170000
DTEND;TZID=Europe/London:20250608T210000
DTSTAMP:20250505T143131Z
URL:https://www.porty.live/whatson/events/pride-pebbles/
SUMMARY:Pride Pebbles
DESCRIPTION:If you find a pebble its yours to keep!\n\n
ATTACH;FMTTYPE=image/jpeg:https://www.porty.live/wp-content/uploads/2025/0
 5/unsplash-image-_Bk2NVFx7q4.jpg
CATEGORIES:Treasure Hunt
END:VEVENT
BEGIN:VTIMEZONE
TZID:Europe/London
X-LIC-LOCATION:Europe/London
BEGIN:DAYLIGHT
DTSTART:20250330T020000
TZOFFSETFROM:+0000
TZOFFSETTO:+0100
TZNAME:BST
END:DAYLIGHT
END:VTIMEZONE
END:VCALENDAR