BEGIN:VCALENDAR
VERSION:2.0
PRODID:-//wp-events-plugin.com//7.2.3.1//EN
TZID:Europe/London
X-WR-TIMEZONE:Europe/London
BEGIN:VEVENT
UID:1850@porty.live
DTSTART;TZID=Europe/London:20260124T193000
DTEND;TZID=Europe/London:20260124T233000
DTSTAMP:20260123T131743Z
URL:https://www.porty.live/whatson/events/porty-town-hall-grand-fundraisin
 g-ceilidh/
SUMMARY: Porty Town Hall Grand Fundraising Ceilidh!
DESCRIPTION:Welcome to the Porty Town Hall Grand Fundraising Ceilidh! Join 
 us at Portobello Town Hall on Burns Night at 7:30 PM for a night of dancin
 g and fun. Let's come together to support a great cause while enjoying tra
 ditional Scottish music and dance. Don't miss out on this opportunity to h
 ave a great time for a good cause. See you there! This is an 18 plus event
ATTACH;FMTTYPE=image/jpeg:https://www.porty.live/wp-content/uploads/2026/0
 1/Porty.jpg
CATEGORIES:Ceilidh,Dance
LOCATION:Portobello Town Hall\, 147-149 Portobello High St\, Edinburgh\, EH
 15 1AF\, United Kingdom
GEO:55.953;-3.115412
X-APPLE-STRUCTURED-LOCATION;VALUE=URI;X-ADDRESS=147-149 Portobello High St\
 , Edinburgh\, EH15 1AF\, United Kingdom;X-APPLE-RADIUS=100;X-TITLE=Portobe
 llo Town Hall:geo:55.953,-3.115412
END:VEVENT
BEGIN:VTIMEZONE
TZID:Europe/London
X-LIC-LOCATION:Europe/London
BEGIN:STANDARD
DTSTART:20251026T010000
TZOFFSETFROM:+0100
TZOFFSETTO:+0000
TZNAME:GMT
END:STANDARD
END:VTIMEZONE
END:VCALENDAR