BEGIN:VCALENDAR
VERSION:2.0
PRODID:-//wp-events-plugin.com//7.2.3.1//EN
TZID:Europe/London
X-WR-TIMEZONE:Europe/London
BEGIN:VEVENT
UID:185@porty.live
DTSTART;TZID=Europe/London:20250606T190000
DTEND;TZID=Europe/London:20250606T220000
DTSTAMP:20250505T153547Z
URL:https://www.porty.live/whatson/events/porty-pride-film-night/
SUMMARY:Porty Pride Film Night
DESCRIPTION:The Porty Pride Film night is set to return so save the date in
  your diaries and watch this space for more information soon! \n\nhttps://
 portypride.com/events-programme-2025/event-two-fzcen
ATTACH;FMTTYPE=image/jpeg:https://www.porty.live/wp-content/uploads/2025/0
 4/DSCF89861.jpg
CATEGORIES:Film
LOCATION:Portobello Town Hall\, 147-149 Portobello High St\, Edinburgh\, EH
 15 1AF\, United Kingdom
GEO:55.953;-3.115412
X-APPLE-STRUCTURED-LOCATION;VALUE=URI;X-ADDRESS=147-149 Portobello High St\
 , Edinburgh\, EH15 1AF\, United Kingdom;X-APPLE-RADIUS=100;X-TITLE=Portobe
 llo Town Hall:geo:55.953,-3.115412
END:VEVENT
BEGIN:VTIMEZONE
TZID:Europe/London
X-LIC-LOCATION:Europe/London
BEGIN:DAYLIGHT
DTSTART:20250330T020000
TZOFFSETFROM:+0000
TZOFFSETTO:+0100
TZNAME:BST
END:DAYLIGHT
END:VTIMEZONE
END:VCALENDAR