BEGIN:VCALENDAR
VERSION:2.0
PRODID:-//wp-events-plugin.com//7.2.3.1//EN
TZID:Europe/London
X-WR-TIMEZONE:Europe/London
BEGIN:VEVENT
UID:356@porty.live
DTSTART;TZID=Europe/London:20250511T150000
DTEND;TZID=Europe/London:20250511T163000
DTSTAMP:20250505T215902Z
URL:https://www.porty.live/whatson/events/porty-dog-show/
SUMMARY:Porty Dog Show
DESCRIPTION:The Porty Dog Show Competition for all furry friends of Porty w
 ho will be judged on the basis of their physical characteristics within ea
 ch of the categories.\n\n
ATTACH;FMTTYPE=image/jpeg:https://www.porty.live/wp-content/uploads/2025/0
 4/8e2e4a_9ff15522f6bc4ff7844c30e6c1fda996mv2.webp
LOCATION:Portobello Community Garden\, Portobello Community Garden\, Edinbu
 rgh\, EH15 2EB\, United Kingdom
GEO:55.952154;-3.104044
X-APPLE-STRUCTURED-LOCATION;VALUE=URI;X-ADDRESS=Portobello Community Garden
 \, Edinburgh\, EH15 2EB\, United Kingdom;X-APPLE-RADIUS=100;X-TITLE=Portob
 ello Community Garden:geo:55.952154,-3.104044
END:VEVENT
BEGIN:VTIMEZONE
TZID:Europe/London
X-LIC-LOCATION:Europe/London
BEGIN:DAYLIGHT
DTSTART:20250330T020000
TZOFFSETFROM:+0000
TZOFFSETTO:+0100
TZNAME:BST
END:DAYLIGHT
END:VTIMEZONE
END:VCALENDAR