BEGIN:VCALENDAR
VERSION:2.0
PRODID:-//wp-events-plugin.com//7.2.3.1//EN
TZID:Europe/London
X-WR-TIMEZONE:Europe/London
BEGIN:VEVENT
UID:311@porty.live
DTSTART;TZID=Europe/London:20250714T090000
DTEND;TZID=Europe/London:20250718T123000
DTSTAMP:20250505T162004Z
URL:https://www.porty.live/whatson/events/portobello-holiday-club/
SUMMARY:Portobello Holiday Club
DESCRIPTION:We have games\, stories\, science activities\, outdoor activiti
 es\, crafts\, baking\, bible study\, snack and more throughout the week.\n
 \n
ATTACH;FMTTYPE=image/jpeg:https://www.porty.live/wp-content/uploads/2025/0
 5/486459183_641085601868102_897510804555520072_n.jpg
CATEGORIES:Children's and Youth Groups,Religion
LOCATION:Portobello & Joppa Parish Church\, 1 Brusntane Road North\, Edinbu
 rgh\, EH15 2DL\, United Kingdom
GEO:55.950246;-3.102644
X-APPLE-STRUCTURED-LOCATION;VALUE=URI;X-ADDRESS=1 Brusntane Road North\, Ed
 inburgh\, EH15 2DL\, United Kingdom;X-APPLE-RADIUS=100;X-TITLE=Portobello 
 & Joppa Parish Church:geo:55.950246,-3.102644
END:VEVENT
BEGIN:VTIMEZONE
TZID:Europe/London
X-LIC-LOCATION:Europe/London
BEGIN:DAYLIGHT
DTSTART:20250330T020000
TZOFFSETFROM:+0000
TZOFFSETTO:+0100
TZNAME:BST
END:DAYLIGHT
END:VTIMEZONE
END:VCALENDAR