BEGIN:VCALENDAR
VERSION:2.0
PRODID:-//wp-events-plugin.com//7.2.3.1//EN
TZID:Europe/London
X-WR-TIMEZONE:Europe/London
BEGIN:VEVENT
UID:194@porty.live
DTSTART;TZID=Europe/London:20250607T120000
DTEND;TZID=Europe/London:20250607T130000
DTSTAMP:20250505T145712Z
URL:https://www.porty.live/whatson/events/portobello-community-choir-singi
 ng-for-our-lives/
SUMMARY:Portobello Community Choir: Singing For Our Lives
DESCRIPTION:Come and learn some harmony songs with a focus on equality and 
 rights for LGBTQ+ people\, and to celebrate rights won.\n\n
ATTACH;FMTTYPE=image/jpeg:https://www.porty.live/wp-content/uploads/2025/0
 5/SmallRobinSing3.png
CATEGORIES:Music,Music &amp; Singing
LOCATION:Portobello Town Hall\, 147-149 Portobello High St\, Edinburgh\, EH
 15 1AF\, United Kingdom
GEO:55.953;-3.115412
X-APPLE-STRUCTURED-LOCATION;VALUE=URI;X-ADDRESS=147-149 Portobello High St\
 , Edinburgh\, EH15 1AF\, United Kingdom;X-APPLE-RADIUS=100;X-TITLE=Portobe
 llo Town Hall:geo:55.953,-3.115412
END:VEVENT
BEGIN:VTIMEZONE
TZID:Europe/London
X-LIC-LOCATION:Europe/London
BEGIN:DAYLIGHT
DTSTART:20250330T020000
TZOFFSETFROM:+0000
TZOFFSETTO:+0100
TZNAME:BST
END:DAYLIGHT
END:VTIMEZONE
END:VCALENDAR