BEGIN:VCALENDAR
VERSION:2.0
PRODID:-//wp-events-plugin.com//7.2.3.1//EN
TZID:Europe/London
X-WR-TIMEZONE:Europe/London
BEGIN:VEVENT
UID:330@porty.live
DTSTART;TZID=Europe/London:20250510T100000
DTEND;TZID=Europe/London:20250510T160000
DTSTAMP:20250505T164727Z
URL:https://www.porty.live/whatson/events/pirate-mycles-lost-treasure/
SUMMARY:Pirate Mycle’s lost treasure
DESCRIPTION:Calling all Porty Pirates: Join us for a treasure hunt to find 
 Pirate Mycle’s lost treasure!\n\n
ATTACH;FMTTYPE=image/jpeg:https://www.porty.live/wp-content/uploads/2025/0
 4/8e2e4a_9ff15522f6bc4ff7844c30e6c1fda996mv2.webp
CATEGORIES:Treasure Hunt
LOCATION:Porty Active Travel Hub\, Pipe Lane\, Edinburgh\, EH15 1BR\, Unite
 d Kingdom
GEO:55.95593;-3.115147
X-APPLE-STRUCTURED-LOCATION;VALUE=URI;X-ADDRESS=Pipe Lane\, Edinburgh\, EH1
 5 1BR\, United Kingdom;X-APPLE-RADIUS=100;X-TITLE=Porty Active Travel Hub:
 geo:55.95593,-3.115147
END:VEVENT
BEGIN:VTIMEZONE
TZID:Europe/London
X-LIC-LOCATION:Europe/London
BEGIN:DAYLIGHT
DTSTART:20250330T020000
TZOFFSETFROM:+0000
TZOFFSETTO:+0100
TZNAME:BST
END:DAYLIGHT
END:VTIMEZONE
END:VCALENDAR