BEGIN:VCALENDAR
VERSION:2.0
PRODID:-//wp-events-plugin.com//7.2.3.1//EN
TZID:Europe/London
X-WR-TIMEZONE:Europe/London
BEGIN:VEVENT
UID:1851@porty.live
DTSTART;TZID=Europe/London:20260124T094500
DTEND;TZID=Europe/London:20260124T123000
DTSTAMP:20260122T190525Z
URL:https://www.porty.live/whatson/events/neighbouring-orchard-walking-was
 sail/
SUMMARY:Neighbouring Orchard Walking Wassail
DESCRIPTION:Join us for the first ever Neighbouring Orchard wassail!\n\n
ATTACH;FMTTYPE=image/jpeg:https://www.porty.live/wp-content/uploads/2025/1
 1/2530CBCB-8B7D-43A5-8362-8134AD58FCAE.jpeg
CATEGORIES:Music &amp; Singing,Walking
LOCATION:St Mark's Church\, 287 Portobello High Street\, Edinburgh\, EH15 2
 AR\, United Kingdom
GEO:55.950726;-3.108889
X-APPLE-STRUCTURED-LOCATION;VALUE=URI;X-ADDRESS=287 Portobello High Street\
 , Edinburgh\, EH15 2AR\, United Kingdom;X-APPLE-RADIUS=100;X-TITLE=St Mark
 's Church:geo:55.950726,-3.108889
END:VEVENT
BEGIN:VTIMEZONE
TZID:Europe/London
X-LIC-LOCATION:Europe/London
BEGIN:STANDARD
DTSTART:20251026T010000
TZOFFSETFROM:+0100
TZOFFSETTO:+0000
TZNAME:GMT
END:STANDARD
END:VTIMEZONE
END:VCALENDAR