BEGIN:VCALENDAR
VERSION:2.0
PRODID:-//wp-events-plugin.com//7.2.3.1//EN
TZID:Europe/London
X-WR-TIMEZONE:Europe/London
BEGIN:VEVENT
UID:1768@porty.live
DTSTART;TZID=Europe/London:20251109T190000
DTEND;TZID=Europe/London:20251109T210000
DTSTAMP:20251024T154738Z
URL:https://www.porty.live/whatson/events/music-evening-with-kailyard-and-
 friends/
SUMMARY:Music Evening with Kailyard and Friends
DESCRIPTION:The Guild invites you to our music evening\n\n
ATTACH;FMTTYPE=image/jpeg:https://www.porty.live/wp-content/uploads/2025/1
 0/8691fed6-9c61-0a09-7384-c5c5e62614d3.jpeg
CATEGORIES:Music
LOCATION:Portobello & Joppa Parish Church\, 1 Brusntane Road North\, Edinbu
 rgh\, EH15 2DL\, United Kingdom
GEO:55.950246;-3.102644
X-APPLE-STRUCTURED-LOCATION;VALUE=URI;X-ADDRESS=1 Brusntane Road North\, Ed
 inburgh\, EH15 2DL\, United Kingdom;X-APPLE-RADIUS=100;X-TITLE=Portobello 
 & Joppa Parish Church:geo:55.950246,-3.102644
END:VEVENT
BEGIN:VTIMEZONE
TZID:Europe/London
X-LIC-LOCATION:Europe/London
BEGIN:STANDARD
DTSTART:20251026T010000
TZOFFSETFROM:+0100
TZOFFSETTO:+0000
TZNAME:GMT
END:STANDARD
END:VTIMEZONE
END:VCALENDAR