BEGIN:VCALENDAR
VERSION:2.0
PRODID:-//wp-events-plugin.com//7.2.3.1//EN
TZID:Europe/London
X-WR-TIMEZONE:Europe/London
BEGIN:VEVENT
UID:1232@porty.live
DTSTART;TZID=Europe/London:20251004T190000
DTEND;TZID=Europe/London:20251004T235900
DTSTAMP:20250727T213641Z
URL:https://www.porty.live/whatson/events/mod-soul-and-ska-night/
SUMMARY:Mod Soul and Ska Night
DESCRIPTION:We are back on the 4th of October for another electric night of
  MOD SOUL AND SKA\n\n
CATEGORIES:Dance
LOCATION:Beach Lane Social Club\, 7-9 Figgate Street\, Edinburgh\, EH15 1HL
 \, United Kingdom
GEO:55.954219;-3.115441
X-APPLE-STRUCTURED-LOCATION;VALUE=URI;X-ADDRESS=7-9 Figgate Street\, Edinbu
 rgh\, EH15 1HL\, United Kingdom;X-APPLE-RADIUS=100;X-TITLE=Beach Lane Soci
 al Club:geo:55.954219,-3.115441
END:VEVENT
BEGIN:VTIMEZONE
TZID:Europe/London
X-LIC-LOCATION:Europe/London
BEGIN:DAYLIGHT
DTSTART:20250330T020000
TZOFFSETFROM:+0000
TZOFFSETTO:+0100
TZNAME:BST
END:DAYLIGHT
END:VTIMEZONE
END:VCALENDAR