BEGIN:VCALENDAR
VERSION:2.0
PRODID:-//wp-events-plugin.com//7.2.3.1//EN
TZID:Europe/London
X-WR-TIMEZONE:Europe/London
BEGIN:VEVENT
UID:127@porty.live
DTSTART;TZID=Europe/London:20250521T183000
DTEND;TZID=Europe/London:20250521T203000
DTSTAMP:20250426T142354Z
URL:https://www.porty.live/whatson/events/mini-first-aid/
SUMMARY:Mini First Aid
DESCRIPTION:Would you know what to do in an emergency? This course will giv
 e you the confidence to know what to do!\n
ATTACH;FMTTYPE=image/jpeg:https://www.porty.live/wp-content/uploads/2025/0
 4/MiniFirstAidPoster-Green.jpeg
CATEGORIES:Classes,First Aid
LOCATION:Bellfield\, 16B Bellfield Street\, Edinburgh\, EH15 2BP\, United K
 ingdom
GEO:55.952205;-3.108335
X-APPLE-STRUCTURED-LOCATION;VALUE=URI;X-ADDRESS=16B Bellfield Street\, Edin
 burgh\, EH15 2BP\, United Kingdom;X-APPLE-RADIUS=100;X-TITLE=Bellfield:geo
 :55.952205,-3.108335
END:VEVENT
BEGIN:VTIMEZONE
TZID:Europe/London
X-LIC-LOCATION:Europe/London
BEGIN:DAYLIGHT
DTSTART:20250330T020000
TZOFFSETFROM:+0000
TZOFFSETTO:+0100
TZNAME:BST
END:DAYLIGHT
END:VTIMEZONE
END:VCALENDAR