BEGIN:VCALENDAR
VERSION:2.0
PRODID:-//wp-events-plugin.com//7.2.3.1//EN
TZID:Europe/London
X-WR-TIMEZONE:Europe/London
BEGIN:VEVENT
UID:1754@porty.live
DTSTART;TZID=Europe/London:20251119T180000
DTEND;TZID=Europe/London:20251119T200000
DTSTAMP:20251024T151847Z
URL:https://www.porty.live/whatson/events/mini-first-aid-3/
SUMMARY:Mini First Aid
DESCRIPTION:A First Aid class for parents and carers\, to give you the conf
 idence to take the right action in an emergency.\n
ATTACH;FMTTYPE=image/jpeg:https://www.porty.live/wp-content/uploads/2025/0
 4/MiniFirstAidPoster-Green.jpeg
CATEGORIES:Classes,First Aid
LOCATION:Bellfield\, 16B Bellfield Street\, Edinburgh\, EH15 2BP\, United K
 ingdom
GEO:55.952205;-3.108335
X-APPLE-STRUCTURED-LOCATION;VALUE=URI;X-ADDRESS=16B Bellfield Street\, Edin
 burgh\, EH15 2BP\, United Kingdom;X-APPLE-RADIUS=100;X-TITLE=Bellfield:geo
 :55.952205,-3.108335
END:VEVENT
BEGIN:VTIMEZONE
TZID:Europe/London
X-LIC-LOCATION:Europe/London
BEGIN:STANDARD
DTSTART:20251026T010000
TZOFFSETFROM:+0100
TZOFFSETTO:+0000
TZNAME:GMT
END:STANDARD
END:VTIMEZONE
END:VCALENDAR