BEGIN:VCALENDAR
VERSION:2.0
PRODID:-//wp-events-plugin.com//7.2.3.1//EN
TZID:Europe/London
X-WR-TIMEZONE:Europe/London
BEGIN:VEVENT
UID:333@porty.live
DTSTART;TZID=Europe/London:20250510T110000
DTEND;TZID=Europe/London:20250510T123000
DTSTAMP:20250505T165341Z
URL:https://www.porty.live/whatson/events/mindful-seaswimming/
SUMMARY:Mindful Seaswimming
DESCRIPTION:Join me for an invigorating dip at Portobello Beach on Edinburg
 h's stunning seaside!\n\n
ATTACH;FMTTYPE=image/jpeg:https://www.porty.live/wp-content/uploads/2025/0
 4/8e2e4a_9ff15522f6bc4ff7844c30e6c1fda996mv2.webp
CATEGORIES:Meditation,Swimming
LOCATION:Portobello Promenade (The Prom)\, Promenade\, Edinburgh\, United K
 ingdom
GEO:55.952264;-3.104216
X-APPLE-STRUCTURED-LOCATION;VALUE=URI;X-ADDRESS=Promenade\, Edinburgh\, Uni
 ted Kingdom;X-APPLE-RADIUS=100;X-TITLE=Portobello Promenade (The Prom):geo
 :55.952264,-3.104216
END:VEVENT
BEGIN:VTIMEZONE
TZID:Europe/London
X-LIC-LOCATION:Europe/London
BEGIN:DAYLIGHT
DTSTART:20250330T020000
TZOFFSETFROM:+0000
TZOFFSETTO:+0100
TZNAME:BST
END:DAYLIGHT
END:VTIMEZONE
END:VCALENDAR