BEGIN:VCALENDAR
VERSION:2.0
PRODID:-//wp-events-plugin.com//7.2.3.1//EN
TZID:Europe/London
X-WR-TIMEZONE:Europe/London
BEGIN:VEVENT
UID:520@porty.live
DTSTART;TZID=Europe/London:20251207T110000
DTEND;TZID=Europe/London:20251207T160000
DTSTAMP:20251130T173956Z
URL:https://www.porty.live/whatson/events/makers-market-5/
SUMMARY:Christmas Makers Market
DESCRIPTION:Showcasing gorgeous selection of handmade crafts from local art
 ists\, designers and makers featuring art\, accessories\, jewellery\, cera
 mics\, homeware\, textiles\, houseplants and much more.\n\n
ATTACH;FMTTYPE=image/jpeg:https://www.porty.live/wp-content/uploads/2025/0
 6/New-Market.jpg
CATEGORIES:Makers Market
LOCATION:Portobello Town Hall\, 147-149 Portobello High St\, Edinburgh\, EH
 15 1AF\, United Kingdom
GEO:55.953;-3.115412
X-APPLE-STRUCTURED-LOCATION;VALUE=URI;X-ADDRESS=147-149 Portobello High St\
 , Edinburgh\, EH15 1AF\, United Kingdom;X-APPLE-RADIUS=100;X-TITLE=Portobe
 llo Town Hall:geo:55.953,-3.115412
END:VEVENT
BEGIN:VTIMEZONE
TZID:Europe/London
X-LIC-LOCATION:Europe/London
BEGIN:STANDARD
DTSTART:20251026T010000
TZOFFSETFROM:+0100
TZOFFSETTO:+0000
TZNAME:GMT
END:STANDARD
END:VTIMEZONE
END:VCALENDAR