BEGIN:VCALENDAR
VERSION:2.0
PRODID:-//wp-events-plugin.com//7.2.3.1//EN
TZID:Europe/London
X-WR-TIMEZONE:Europe/London
BEGIN:VEVENT
UID:343@porty.live
DTSTART;TZID=Europe/London:20250511T100000
DTEND;TZID=Europe/London:20250511T120000
DTSTAMP:20250505T212757Z
URL:https://www.porty.live/whatson/events/make-your-mark-create-a-bold-one
 -of-a-kind-fabric-banner/
SUMMARY:Make Your Mark: Create a Bold\, One-of-a-Kind Fabric Banner
DESCRIPTION:Unleash your creativity and craft a powerful piece of wall art\
 , a striking public declaration\, or a vibrant celebratory flag—using my
  beautifully pre-sewn banners and colorful felt.\n\nNo sewing required!\n\
 nUsing rescued fabrics in a variety of sizes\, your banner is ready for yo
 u to cut and decorate with your most meaningful words and images.\n\nWheth
 er you want to inspire\, protest\, celebrate\, or simply express yourself\
 , this hands-on experience is for you. If you can wield a pair of scissors
  or make a mark\, you've got everything you need! And if not\, I'll be the
 re to guide you. Just bring a word\, a phrase\, or a statement that speaks
  to you - let's turn it into something bold\, beautiful\, and uniquely you
 rs.\n\nChildren under 12 to be accompanied by adults\n\nYour Host\nI'm a m
 aker based in the Scottish Borders\, using rescued fabrics which I sourced
  locally to make homewares and accessories. I also run a social community 
 sewing club across the area\, based in local village halls. Reuse and sust
 ainability is my passion.\nhttp://www.instagram.com/blumkiki\n\nhttps://po
 rtyfestival.co.uk/
ATTACH;FMTTYPE=image/jpeg:https://www.porty.live/wp-content/uploads/2025/0
 4/8e2e4a_9ff15522f6bc4ff7844c30e6c1fda996mv2.webp
CATEGORIES:DIY &amp; Crafts
LOCATION:Portobello Town Hall\, 147-149 Portobello High St\, Edinburgh\, EH
 15 1AF\, United Kingdom
GEO:55.953;-3.115412
X-APPLE-STRUCTURED-LOCATION;VALUE=URI;X-ADDRESS=147-149 Portobello High St\
 , Edinburgh\, EH15 1AF\, United Kingdom;X-APPLE-RADIUS=100;X-TITLE=Portobe
 llo Town Hall:geo:55.953,-3.115412
END:VEVENT
BEGIN:VTIMEZONE
TZID:Europe/London
X-LIC-LOCATION:Europe/London
BEGIN:DAYLIGHT
DTSTART:20250330T020000
TZOFFSETFROM:+0000
TZOFFSETTO:+0100
TZNAME:BST
END:DAYLIGHT
END:VTIMEZONE
END:VCALENDAR