BEGIN:VCALENDAR
VERSION:2.0
PRODID:-//wp-events-plugin.com//7.2.3.1//EN
TZID:Europe/London
X-WR-TIMEZONE:Europe/London
BEGIN:VEVENT
UID:1767@porty.live
DTSTART;TZID=Europe/London:20251027T000000
DTEND;TZID=Europe/London:20251027T143000
DTSTAMP:20251024T154533Z
URL:https://www.porty.live/whatson/events/keeping-warm-and-well-this-winte
 r/
SUMMARY:Keeping Warm and Well This Winter
DESCRIPTION:Join us for soup\, refreshments and get together for a conversa
 tion on what helps us keep warm and well in winter.\n\n
ATTACH;FMTTYPE=image/jpeg:https://www.porty.live/wp-content/uploads/2025/1
 0/12f3a922-9a0f-b0fc-b4b7-b377575d63f3.jpeg
CATEGORIES:Clubs and Societies,Food and Drink
LOCATION:St Mark's Church\, 287 Portobello High Street\, Edinburgh\, EH15 2
 AR\, United Kingdom
GEO:55.950726;-3.108889
X-APPLE-STRUCTURED-LOCATION;VALUE=URI;X-ADDRESS=287 Portobello High Street\
 , Edinburgh\, EH15 2AR\, United Kingdom;X-APPLE-RADIUS=100;X-TITLE=St Mark
 's Church:geo:55.950726,-3.108889
END:VEVENT
BEGIN:VTIMEZONE
TZID:Europe/London
X-LIC-LOCATION:Europe/London
BEGIN:STANDARD
DTSTART:20251026T010000
TZOFFSETFROM:+0100
TZOFFSETTO:+0000
TZNAME:GMT
END:STANDARD
END:VTIMEZONE
END:VCALENDAR