BEGIN:VCALENDAR
VERSION:2.0
PRODID:-//wp-events-plugin.com//7.2.3.1//EN
TZID:Europe/London
X-WR-TIMEZONE:Europe/London
BEGIN:VEVENT
UID:1784@porty.live
DTSTART;TZID=Europe/London:20251205T190000
DTEND;TZID=Europe/London:20251205T203000
DTSTAMP:20251121T185125Z
URL:https://www.porty.live/whatson/events/jo-myles-christmas-soundbath/
SUMMARY:Jo Myles Christmas Soundbath
DESCRIPTION:Recharge\, find balance and connection at this extra special fe
 stive Soundbath meditation event.\n\n
ATTACH;FMTTYPE=image/jpeg:https://www.porty.live/wp-content/uploads/2025/1
 1/https___cdn.evbuc_.com_images_1147980323_160797398487_1_original.jpg
CATEGORIES:Meditation
END:VEVENT
BEGIN:VTIMEZONE
TZID:Europe/London
X-LIC-LOCATION:Europe/London
BEGIN:STANDARD
DTSTART:20251026T010000
TZOFFSETFROM:+0100
TZOFFSETTO:+0000
TZNAME:GMT
END:STANDARD
END:VTIMEZONE
END:VCALENDAR