BEGIN:VCALENDAR
VERSION:2.0
PRODID:-//wp-events-plugin.com//7.2.3.1//EN
TZID:Europe/London
X-WR-TIMEZONE:Europe/London
BEGIN:VEVENT
UID:1555@porty.live
DTSTART;TZID=Europe/London:20251011T170000
DTEND;TZID=Europe/London:20251011T230000
DTSTAMP:20250905T103906Z
URL:https://www.porty.live/whatson/events/grand-reggae-ball-feat-messenger
 -sound-system-part-4/
SUMMARY:Grand Reggae Ball feat. Messenger Sound System - Part 4
DESCRIPTION:Edinburgh Dub Club and Messenger join forces once again for the
  Portobello Grand Reggae Ball - Part 4.\n\n
ATTACH;FMTTYPE=image/jpeg:https://www.porty.live/wp-content/uploads/2025/0
 9/8e2e4a_2020d8e439804e2c9b4e97938dff4eedmv2.avif
CATEGORIES:Music
LOCATION:Portobello Town Hall\, 147-149 Portobello High St\, Edinburgh\, EH
 15 1AF\, United Kingdom
GEO:55.953;-3.115412
X-APPLE-STRUCTURED-LOCATION;VALUE=URI;X-ADDRESS=147-149 Portobello High St\
 , Edinburgh\, EH15 1AF\, United Kingdom;X-APPLE-RADIUS=100;X-TITLE=Portobe
 llo Town Hall:geo:55.953,-3.115412
END:VEVENT
BEGIN:VTIMEZONE
TZID:Europe/London
X-LIC-LOCATION:Europe/London
BEGIN:DAYLIGHT
DTSTART:20250330T020000
TZOFFSETFROM:+0000
TZOFFSETTO:+0100
TZNAME:BST
END:DAYLIGHT
END:VTIMEZONE
END:VCALENDAR