BEGIN:VCALENDAR
VERSION:2.0
PRODID:-//wp-events-plugin.com//7.2.3.1//EN
TZID:Europe/London
X-WR-TIMEZONE:Europe/London
BEGIN:VEVENT
UID:205@porty.live
DTSTART;TZID=Europe/London:20250608T150000
DTEND;TZID=Europe/London:20250608T160000
DTSTAMP:20250505T153210Z
URL:https://www.porty.live/whatson/events/fun-fiddle-porty-prom-parade/
SUMMARY:Fun Fiddle Porty Prom Parade
DESCRIPTION:Join a merry band of fiddlers of all ages as they promenade alo
 ng Portobello Prom together with the Shunpike Perambulators Street Band!\n
 \n
ATTACH;FMTTYPE=image/jpeg:https://www.porty.live/wp-content/uploads/2025/0
 5/DSCN1984.jpg
CATEGORIES:Music,Walking
LOCATION:Portobello Promenade (The Prom)\, Promenade\, Edinburgh\, United K
 ingdom
GEO:55.952264;-3.104216
X-APPLE-STRUCTURED-LOCATION;VALUE=URI;X-ADDRESS=Promenade\, Edinburgh\, Uni
 ted Kingdom;X-APPLE-RADIUS=100;X-TITLE=Portobello Promenade (The Prom):geo
 :55.952264,-3.104216
END:VEVENT
BEGIN:VTIMEZONE
TZID:Europe/London
X-LIC-LOCATION:Europe/London
BEGIN:DAYLIGHT
DTSTART:20250330T020000
TZOFFSETFROM:+0000
TZOFFSETTO:+0100
TZNAME:BST
END:DAYLIGHT
END:VTIMEZONE
END:VCALENDAR