BEGIN:VCALENDAR
VERSION:2.0
PRODID:-//wp-events-plugin.com//7.2.3.1//EN
TZID:Europe/London
X-WR-TIMEZONE:Europe/London
BEGIN:VEVENT
UID:1532@porty.live
DTSTART;TZID=Europe/London:20250911T190000
DTEND;TZID=Europe/London:20250911T204500
DTSTAMP:20250905T100424Z
URL:https://www.porty.live/whatson/events/fun-fiddle-play-together-interme
 diate-advanced-weekly-drop-in-group-2025-09-11/
SUMMARY:Fun Fiddle: Play Together (Intermediate/ Advanced Weekly Drop In Gr
 oup)
DESCRIPTION:Fun Fiddle is a local project featuring ceilidhs\, classes\, in
 formal sessions\, and one to one lessons.\n\n
ATTACH;FMTTYPE=image/jpeg:https://www.porty.live/wp-content/uploads/2025/0
 9/FunFiddle.png
CATEGORIES:Music &amp; Singing
LOCATION:The Wash House\, 3 Adelphi Grove\, Edinburgh\, EH15 1AP\, United K
 ingdom
GEO:55.953877;-3.116526
X-APPLE-STRUCTURED-LOCATION;VALUE=URI;X-ADDRESS=3 Adelphi Grove\, Edinburgh
 \, EH15 1AP\, United Kingdom;X-APPLE-RADIUS=100;X-TITLE=The Wash House:geo
 :55.953877,-3.116526
END:VEVENT
BEGIN:VTIMEZONE
TZID:Europe/London
X-LIC-LOCATION:Europe/London
BEGIN:DAYLIGHT
DTSTART:20250330T020000
TZOFFSETFROM:+0000
TZOFFSETTO:+0100
TZNAME:BST
END:DAYLIGHT
END:VTIMEZONE
END:VCALENDAR