BEGIN:VCALENDAR
VERSION:2.0
PRODID:-//wp-events-plugin.com//7.2.3.1//EN
TZID:Europe/London
X-WR-TIMEZONE:Europe/London
BEGIN:VEVENT
UID:1529@porty.live
DTSTART;TZID=Europe/London:20251106T190000
DTEND;TZID=Europe/London:20251106T203000
DTSTAMP:20250905T095547Z
URL:https://www.porty.live/whatson/events/fun-fiddle-play-together-improve
 r-beginner-classes-2025-09-11-2025-09-25-2025-10-09-2025-10-23-2025-11-06/
SUMMARY:Fun Fiddle: Play Together (Improver Beginner Classes)
DESCRIPTION:Fun Fiddle is a local project featuring ceilidhs\, classes\, in
 formal sessions\, and one to one lessons.\n\n
ATTACH;FMTTYPE=image/jpeg:https://www.porty.live/wp-content/uploads/2025/0
 9/FunFiddle.png
CATEGORIES:Music &amp; Singing
LOCATION:Portobello Baptist Church Hall\, 189 Portobello High Street\, Edin
 burgh\, EH15 1EU\, United Kingdom
GEO:55.952403;-3.113657
X-APPLE-STRUCTURED-LOCATION;VALUE=URI;X-ADDRESS=189 Portobello High Street\
 , Edinburgh\, EH15 1EU\, United Kingdom;X-APPLE-RADIUS=100;X-TITLE=Portobe
 llo Baptist Church Hall:geo:55.952403,-3.113657
END:VEVENT
BEGIN:VTIMEZONE
TZID:Europe/London
X-LIC-LOCATION:Europe/London
BEGIN:STANDARD
DTSTART:20251026T010000
TZOFFSETFROM:+0100
TZOFFSETTO:+0000
TZNAME:GMT
END:STANDARD
END:VTIMEZONE
END:VCALENDAR