BEGIN:VCALENDAR
VERSION:2.0
PRODID:-//wp-events-plugin.com//7.2.3.1//EN
TZID:Europe/London
X-WR-TIMEZONE:Europe/London
BEGIN:VEVENT
UID:1790@porty.live
DTSTART;TZID=Europe/London:20251204T190000
DTEND;TZID=Europe/London:20251204T210000
DTSTAMP:20251122T163144Z
URL:https://www.porty.live/whatson/events/festive-paper-decoration-worksho
 p/
SUMMARY:Festive Paper Decoration Workshop
DESCRIPTION:Get cosy for a festive paper assemblage workshop with fizz\, mi
 nce pies &amp\; handmade decorations to take home.\n\n
ATTACH;FMTTYPE=image/jpeg:https://www.porty.live/wp-content/uploads/2025/1
 1/https___cdn.evbuc_.com_images_1170789160_2572089664351_1_original.jpg
CATEGORIES:DIY &amp; Crafts
LOCATION:The Tower\, 47 Figgate Lane\, Edinburgh\, EH15 1HJ\, United Kingdo
 m
GEO:55.955837;-3.112917
X-APPLE-STRUCTURED-LOCATION;VALUE=URI;X-ADDRESS=47 Figgate Lane\, Edinburgh
 \, EH15 1HJ\, United Kingdom;X-APPLE-RADIUS=100;X-TITLE=The Tower:geo:55.9
 55837,-3.112917
END:VEVENT
BEGIN:VTIMEZONE
TZID:Europe/London
X-LIC-LOCATION:Europe/London
BEGIN:STANDARD
DTSTART:20251026T010000
TZOFFSETFROM:+0100
TZOFFSETTO:+0000
TZNAME:GMT
END:STANDARD
END:VTIMEZONE
END:VCALENDAR