BEGIN:VCALENDAR
VERSION:2.0
PRODID:-//wp-events-plugin.com//7.2.3.1//EN
TZID:Europe/London
X-WR-TIMEZONE:Europe/London
BEGIN:VEVENT
UID:1780@porty.live
DTSTART;TZID=Europe/London:20251129T110000
DTEND;TZID=Europe/London:20251129T150000
DTSTAMP:20251121T170529Z
URL:https://www.porty.live/whatson/events/festive-fashion-sale/
SUMMARY:Festive Fashion Sale
DESCRIPTION:Calling all fashionistas on the hunt for a Christmas bargain!\n
 \n
ATTACH;FMTTYPE=image/jpeg:https://www.porty.live/wp-content/uploads/2025/1
 1/https___cdn.evbuc_.com_images_1170864434_162600496435_1_original.jpg
CATEGORIES:Retail and Markets
LOCATION:St John the Evangelist\, 35 Brighton Place\, Edinburgh\, EH15 1LL\
 , United Kingdom
GEO:55.951816;-3.115376
X-APPLE-STRUCTURED-LOCATION;VALUE=URI;X-ADDRESS=35 Brighton Place\, Edinbur
 gh\, EH15 1LL\, United Kingdom;X-APPLE-RADIUS=100;X-TITLE=St John the Evan
 gelist:geo:55.951816,-3.115376
END:VEVENT
BEGIN:VTIMEZONE
TZID:Europe/London
X-LIC-LOCATION:Europe/London
BEGIN:STANDARD
DTSTART:20251026T010000
TZOFFSETFROM:+0100
TZOFFSETTO:+0000
TZNAME:GMT
END:STANDARD
END:VTIMEZONE
END:VCALENDAR