BEGIN:VCALENDAR
VERSION:2.0
PRODID:-//wp-events-plugin.com//7.2.3.1//EN
TZID:Europe/London
X-WR-TIMEZONE:Europe/London
BEGIN:VEVENT
UID:1776@porty.live
DTSTART;TZID=Europe/London:20260101T133000
DTEND;TZID=Europe/London:20260101T163000
DTSTAMP:20251121T163537Z
URL:https://www.porty.live/whatson/events/edinburghs-hogmanay-presents-spr
 ogmanay/
SUMMARY:Edinburgh’s Hogmanay presents: Sprogmanay!
DESCRIPTION:Come join the party at the Sprogmanay Family Ceilidh\, for an a
 fternoon of ceilidh dancing and fun on New Year’s Day.\n\n
ATTACH;FMTTYPE=image/jpeg:https://www.porty.live/wp-content/uploads/2025/1
 1/SprogmanayFreeFamilyCeilidh.jpg
CATEGORIES:Ceilidh
LOCATION:Portobello Town Hall\, 147-149 Portobello High St\, Edinburgh\, EH
 15 1AF\, United Kingdom
GEO:55.953;-3.115412
X-APPLE-STRUCTURED-LOCATION;VALUE=URI;X-ADDRESS=147-149 Portobello High St\
 , Edinburgh\, EH15 1AF\, United Kingdom;X-APPLE-RADIUS=100;X-TITLE=Portobe
 llo Town Hall:geo:55.953,-3.115412
END:VEVENT
BEGIN:VTIMEZONE
TZID:Europe/London
X-LIC-LOCATION:Europe/London
BEGIN:STANDARD
DTSTART:20251026T010000
TZOFFSETFROM:+0100
TZOFFSETTO:+0000
TZNAME:GMT
END:STANDARD
END:VTIMEZONE
END:VCALENDAR