BEGIN:VCALENDAR
VERSION:2.0
PRODID:-//wp-events-plugin.com//7.2.3.1//EN
TZID:Europe/London
X-WR-TIMEZONE:Europe/London
BEGIN:VEVENT
UID:1777@porty.live
DTSTART;TZID=Europe/London:20260101T180000
DTEND;TZID=Europe/London:20260101T200000
DTSTAMP:20251121T164009Z
URL:https://www.porty.live/whatson/events/edinburghs-hogmanay-presents-muc
 kle-be-the-light/
SUMMARY:Edinburgh’s Hogmanay presents Muckle Be The Light
DESCRIPTION:Manson\, the Makar &amp\; Dreamers Beyond\n\n
ATTACH;FMTTYPE=image/jpeg:https://www.porty.live/wp-content/uploads/2025/1
 1/MucklebetheLight1080x1080.jpg
CATEGORIES:Authors and Writing,Music,Shows and Performances
LOCATION:Portobello Town Hall\, 147-149 Portobello High St\, Edinburgh\, EH
 15 1AF\, United Kingdom
GEO:55.953;-3.115412
X-APPLE-STRUCTURED-LOCATION;VALUE=URI;X-ADDRESS=147-149 Portobello High St\
 , Edinburgh\, EH15 1AF\, United Kingdom;X-APPLE-RADIUS=100;X-TITLE=Portobe
 llo Town Hall:geo:55.953,-3.115412
END:VEVENT
BEGIN:VTIMEZONE
TZID:Europe/London
X-LIC-LOCATION:Europe/London
BEGIN:STANDARD
DTSTART:20251026T010000
TZOFFSETFROM:+0100
TZOFFSETTO:+0000
TZNAME:GMT
END:STANDARD
END:VTIMEZONE
END:VCALENDAR