BEGIN:VCALENDAR
VERSION:2.0
PRODID:-//wp-events-plugin.com//7.2.3.1//EN
TZID:Europe/London
X-WR-TIMEZONE:Europe/London
BEGIN:VEVENT
UID:18@porty.live
DTSTART;TZID=Europe/London:20250429T100000
DTEND;TZID=Europe/London:20250429T113000
DTSTAMP:20250426T140946Z
URL:https://www.porty.live/whatson/events/drop-in-sessions-for-bellfields-
 big-build-2/
SUMMARY:Drop-in sessions for Bellfield's Big Build
DESCRIPTION:Come and speak to one of our Community Shares team for more inf
 ormation\, to buy your shares with cash / cheque or help with filling out 
 form.
ATTACH;FMTTYPE=image/jpeg:https://www.porty.live/wp-content/uploads/2025/0
 4/Drop-insessions29March-30April1.png
LOCATION:Bellfield\, 16B Bellfield Street\, Edinburgh\, EH15 2BP\, United K
 ingdom
GEO:55.952205;-3.108335
X-APPLE-STRUCTURED-LOCATION;VALUE=URI;X-ADDRESS=16B Bellfield Street\, Edin
 burgh\, EH15 2BP\, United Kingdom;X-APPLE-RADIUS=100;X-TITLE=Bellfield:geo
 :55.952205,-3.108335
END:VEVENT
BEGIN:VTIMEZONE
TZID:Europe/London
X-LIC-LOCATION:Europe/London
BEGIN:DAYLIGHT
DTSTART:20250330T020000
TZOFFSETFROM:+0000
TZOFFSETTO:+0100
TZNAME:BST
END:DAYLIGHT
END:VTIMEZONE
END:VCALENDAR