BEGIN:VCALENDAR
VERSION:2.0
PRODID:-//wp-events-plugin.com//7.2.3.1//EN
TZID:Europe/London
X-WR-TIMEZONE:Europe/London
BEGIN:VEVENT
UID:328@porty.live
DTSTART;TZID=Europe/London:20250510T100000
DTEND;TZID=Europe/London:20250510T150000
DTSTAMP:20250505T164107Z
URL:https://www.porty.live/whatson/events/dr-bike-pop-up-shop/
SUMMARY:Dr Bike & Pop Up Shop
DESCRIPTION:We’re bringing a free Dr Bike session to Porty Festival—sto
 p by for a bicycle health check\, where our mechanics will check your bike
 ’s brakes\, gears\, and overall condition to keep you rolling smoothly.\
 n\nNo need to book\, just come by with your bike.\n\nPlus\, check out our 
 pop-up shop with refurbished bikes\, lights\, locks\, and cycling accessor
 ies—all part of our mission to support a circular economy and make cycli
 ng more accessible to everyone in the community.\n\nOpen to all ages—com
 e say hello and keep your bike in top shape\n\nYOUR HOST\nThe Bike Station
  is more than just a bike shop\, dedicated to making bikes more accessible
  through refurbishment\, repairs\, and community support. We promote susta
 inable transport by giving pre-loved bikes a second life and helping peopl
 e of all ages get cycling with confidence.\n\nWhether it’s through our D
 r Bike sessions\, affordable refurbished bikes\, or cycling accessories\, 
 we’re here to support a greener\,\nhealthier community.\n\nhttps://www.t
 hebikestation.org.uk/\n\nhttps://portyfestival.co.uk/
ATTACH;FMTTYPE=image/jpeg:https://www.porty.live/wp-content/uploads/2025/0
 4/8e2e4a_9ff15522f6bc4ff7844c30e6c1fda996mv2.webp
CATEGORIES:Bike Maintenance,Pop-up Shop
LOCATION:Portobello Town Hall\, 147-149 Portobello High St\, Edinburgh\, EH
 15 1AF\, United Kingdom
GEO:55.953;-3.115412
X-APPLE-STRUCTURED-LOCATION;VALUE=URI;X-ADDRESS=147-149 Portobello High St\
 , Edinburgh\, EH15 1AF\, United Kingdom;X-APPLE-RADIUS=100;X-TITLE=Portobe
 llo Town Hall:geo:55.953,-3.115412
END:VEVENT
BEGIN:VTIMEZONE
TZID:Europe/London
X-LIC-LOCATION:Europe/London
BEGIN:DAYLIGHT
DTSTART:20250330T020000
TZOFFSETFROM:+0000
TZOFFSETTO:+0100
TZNAME:BST
END:DAYLIGHT
END:VTIMEZONE
END:VCALENDAR